BEGIN:VCALENDAR
VERSION:2.0
PRODID:-//ChamberMaster//Event Calendar 2.0//EN
METHOD:PUBLISH
X-PUBLISHED-TTL:P3D
REFRESH-INTERVAL:P3D
CALSCALE:GREGORIAN
BEGIN:VEVENT
DTSTART:20210611T170000Z
DTEND:20210611T180000Z
X-MICROSOFT-CDO-ALLDAYEVENT:FALSE
SUMMARY:IESBDC Webinar: Branding For Your Small Business
DESCRIPTION:Using Your Branding For Your Business Utilize the correct platforms for your brand efficiently and effectively. Attend this seminar and learn: What platforms will be the most beneficial for my type of business? How do I create a unified brand across multiple platforms? What are the first items to complete once a platform has been decided upon? How to unify a branding tone for your business. How often should my business be posting\, and about what?
X-ALT-DESC;FMTTYPE=text/html:Using Your Branding For Your Business Utilize the correct platforms for your brand efficiently and effectively. Attend this seminar and learn: What platforms will be the most beneficial for my type of business? How do I create a unified brand across multiple platforms? What are the first items to complete once a platform has been decided upon? How to unify a branding tone for your business. How often should my business be posting\, and about what?
LOCATION:
UID:e.1843.3070
SEQUENCE:3
DTSTAMP:20260424T181021Z
URL:https://business.movalchamber.org/events/details/iesbdc-webinar-branding-for-your-small-business-3070
END:VEVENT

END:VCALENDAR
