BEGIN:VCALENDAR
VERSION:2.0
PRODID:-//ChamberMaster//Event Calendar 2.0//EN
METHOD:PUBLISH
X-PUBLISHED-TTL:P3D
REFRESH-INTERVAL:P3D
CALSCALE:GREGORIAN
BEGIN:VEVENT
DTSTART:20210609T170000Z
DTEND:20210609T180000Z
X-MICROSOFT-CDO-ALLDAYEVENT:FALSE
SUMMARY:IESBDC Webinar: Certifications For Your Small Business
DESCRIPTION:Gain an advantage over your competitors by obtaining certifications for your business. Attend this webinar and discover how securing the designation of Small Business\, Woman-Owned\, Minority-Owned\, or Disabled Veteran Business Enterprise can help you do business with some of the most reputable government agencies\, prime contractors and Fortune 500 companies.
X-ALT-DESC;FMTTYPE=text/html:Gain an advantage over your competitors by obtaining certifications for your business. Attend this webinar and discover how securing the designation of Small Business\, Woman-Owned\, Minority-Owned\, or Disabled Veteran Business Enterprise can help you do business with some of the most reputable government agencies\, prime contractors and Fortune 500 companies.
LOCATION:
UID:e.1843.3087
SEQUENCE:3
DTSTAMP:20260424T180859Z
URL:https://business.movalchamber.org/events/details/iesbdc-webinar-certifications-for-your-small-business-06-09-2021-3087
END:VEVENT

END:VCALENDAR
