BEGIN:VCALENDAR
VERSION:2.0
PRODID:-//ChamberMaster//Event Calendar 2.0//EN
METHOD:PUBLISH
X-PUBLISHED-TTL:P3D
REFRESH-INTERVAL:P3D
CALSCALE:GREGORIAN
BEGIN:VEVENT
DTSTART:20210608T170000Z
DTEND:20210608T180000Z
X-MICROSOFT-CDO-ALLDAYEVENT:FALSE
SUMMARY:IESBDC Webinar: Contenido De Márketing
DESCRIPTION:Marketing Content in Spanish Acomp  anos en este seminario que te informar  de todo lo que necesitas saber sobre el contenido de m rketing. Los temas incluyen los siguientes:  Qu  es contenido de m rketing?   Por qu  el marketing de contenidos? Estrategias de m rketing de contenidos C mo encontrar nuevas ideas de temas de contenido  Qu  es el "Evergreen" contenido? C mo crear contenido que se pueda enlazar y compartir
X-ALT-DESC;FMTTYPE=text/html:Marketing Content in Spanish Acomp&aacute\;&ntilde\;anos en este seminario que te informar&aacute\; de todo lo que necesitas saber sobre el contenido de m&aacute\;rketing. Los temas incluyen los siguientes: &iquest\;Qu&eacute\; es contenido de m&aacute\;rketing? &iquest\; Por qu&eacute\; el marketing de contenidos? Estrategias de m&aacute\;rketing de contenidos C&oacute\;mo encontrar nuevas ideas de temas de contenido &iquest\;Qu&eacute\; es el &ldquo\;Evergreen&rdquo\; contenido? C&oacute\;mo crear contenido que se pueda enlazar y compartir
LOCATION:
UID:e.1843.3063
SEQUENCE:3
DTSTAMP:20260424T180725Z
URL:https://business.movalchamber.org/events/details/iesbdc-webinar-contenido-de-m&#225;rketing-3063
END:VEVENT

END:VCALENDAR
