BEGIN:VCALENDAR
VERSION:2.0
PRODID:-//ChamberMaster//Event Calendar 2.0//EN
METHOD:PUBLISH
X-PUBLISHED-TTL:P3D
REFRESH-INTERVAL:P3D
CALSCALE:GREGORIAN
BEGIN:VEVENT
DTSTART:20210617T170000Z
DTEND:20210617T180000Z
X-MICROSOFT-CDO-ALLDAYEVENT:FALSE
SUMMARY:IESBDC Webinar: Doing Business with the City of Moreno Valley
DESCRIPTION:Are you a contractor interested in learning about the bid opportunities available by your local government agencies? Join us to learn: Purchasing and Contract Services Current Purchasing and Contract Opportunities Subcontractor Requirements and Policies Minority Project Requirements and Policies
X-ALT-DESC;FMTTYPE=text/html:Are you a contractor interested in learning about the bid opportunities available by your local government agencies? Join us to learn: Purchasing and Contract Services Current Purchasing and Contract Opportunities Subcontractor Requirements and Policies Minority Project Requirements and Policies
LOCATION:
UID:e.1843.3075
SEQUENCE:3
DTSTAMP:20260424T181303Z
URL:https://business.movalchamber.org/events/details/iesbdc-webinar-doing-business-with-the-city-of-moreno-valley-3075
END:VEVENT

END:VCALENDAR
