BEGIN:VCALENDAR
VERSION:2.0
PRODID:-//ChamberMaster//Event Calendar 2.0//EN
METHOD:PUBLISH
X-PUBLISHED-TTL:P3D
REFRESH-INTERVAL:P3D
CALSCALE:GREGORIAN
BEGIN:VEVENT
DTSTART:20210615T160000Z
DTEND:20210615T170000Z
X-MICROSOFT-CDO-ALLDAYEVENT:FALSE
SUMMARY:IESBDC Webinar: Get Your Local Business on Google Search and Maps
DESCRIPTION:Showing up when customers are searching online is more important than ever. Ensure customers can find accurate\, updated information about your local business on Google Search and Google Maps\, no matter which device they use. In this workshop\, you will learn how to create and manage a Google business profile from start to finish.
X-ALT-DESC;FMTTYPE=text/html:Showing up when customers are searching online is more important than ever. Ensure customers can find accurate\, updated information about your local business on Google Search and Google Maps\, no matter which device they use. In this workshop\, you will learn how to create and manage a Google business profile from start to finish.
LOCATION:
UID:e.1843.3071
SEQUENCE:3
DTSTAMP:20260424T200043Z
URL:https://business.movalchamber.org/events/details/iesbdc-webinar-get-your-local-business-on-google-search-and-maps-3071
END:VEVENT

END:VCALENDAR
