BEGIN:VCALENDAR
VERSION:2.0
PRODID:-//ChamberMaster//Event Calendar 2.0//EN
METHOD:PUBLISH
X-PUBLISHED-TTL:P3D
REFRESH-INTERVAL:P3D
CALSCALE:GREGORIAN
BEGIN:VEVENT
DTSTART:20210622T220000Z
DTEND:20210622T230000Z
X-MICROSOFT-CDO-ALLDAYEVENT:FALSE
SUMMARY:IESBDC Webinar: Importance of Google Analytics
DESCRIPTION:Do you know why Google Analytics are important to the performance of your website? A well performing website can be critical during a global pandemic. Join us for this FREE session to learn the Basics of Google Analytics and Google and Search Engine Optimization (SEO).
X-ALT-DESC;FMTTYPE=text/html:Do you know why Google Analytics are important to the performance of your website? A well performing website can be critical during a global pandemic. Join us for this FREE session to learn the Basics of Google Analytics and Google and Search Engine Optimization (SEO).
LOCATION:
UID:e.1843.3080
SEQUENCE:3
DTSTAMP:20260424T194547Z
URL:https://business.movalchamber.org/events/details/iesbdc-webinar-importance-of-google-analytics-3080
END:VEVENT

END:VCALENDAR
