BEGIN:VCALENDAR
VERSION:2.0
PRODID:-//ChamberMaster//Event Calendar 2.0//EN
METHOD:PUBLISH
X-PUBLISHED-TTL:P3D
REFRESH-INTERVAL:P3D
CALSCALE:GREGORIAN
BEGIN:VEVENT
DTSTART:20210608T233000Z
DTEND:20210609T010000Z
X-MICROSOFT-CDO-ALLDAYEVENT:FALSE
SUMMARY:IESBDC Webinar: Live Business Mentoring and Learning?
DESCRIPTION:SBA has found that businesses that engage in mentoring report increases in growth and profit. Join Certified Business Mentors to receive LIVE Mentoring and Learning every second and fourth Tuesday to discuss: Marketing and SEO Finances and Accounting Legal and Patent Answers Where to start when starting a business And so much more.
X-ALT-DESC;FMTTYPE=text/html:SBA has found that businesses that engage in mentoring report increases in growth and profit. Join Certified Business Mentors to receive LIVE Mentoring and Learning every second and fourth Tuesday to discuss: Marketing and SEO Finances and Accounting Legal and Patent Answers Where to start when starting a business And so much more.
LOCATION:
UID:e.1843.3065
SEQUENCE:3
DTSTAMP:20260424T180618Z
URL:https://business.movalchamber.org/events/details/iesbdc-webinar-live-business-mentoring-and-learning-3065
END:VEVENT

END:VCALENDAR
