BEGIN:VCALENDAR
VERSION:2.0
PRODID:-//ChamberMaster//Event Calendar 2.0//EN
METHOD:PUBLISH
X-PUBLISHED-TTL:P3D
REFRESH-INTERVAL:P3D
CALSCALE:GREGORIAN
BEGIN:VEVENT
DTSTART:20210623T170000Z
DTEND:20210623T183000Z
X-MICROSOFT-CDO-ALLDAYEVENT:FALSE
SUMMARY:IESBDC Webinar: Loans for Your Small Business
DESCRIPTION:Are you seeking funding for your small business or have you been affected by COVID-19? Join us to learn about the funding options that are available to you\, where to start and how to qualify. Learn from a former underwriter the language of finance (cash flow\, collateral\, credit). Additionally\, we will discuss current relief funding options related to the COVID-19 pandemic.
X-ALT-DESC;FMTTYPE=text/html:Are you seeking funding for your small business or have you been affected by COVID-19? Join us to learn about the funding options that are available to you\, where to start and how to qualify. Learn from a former underwriter the language of finance (cash flow\, collateral\, credit). Additionally\, we will discuss current relief funding options related to the COVID-19 pandemic.
LOCATION:
UID:e.1843.3102
SEQUENCE:3
DTSTAMP:20260424T195144Z
URL:https://business.movalchamber.org/events/details/iesbdc-webinar-loans-for-your-small-business-3102
END:VEVENT

END:VCALENDAR
