BEGIN:VCALENDAR
VERSION:2.0
PRODID:-//ChamberMaster//Event Calendar 2.0//EN
METHOD:PUBLISH
X-PUBLISHED-TTL:P3D
REFRESH-INTERVAL:P3D
CALSCALE:GREGORIAN
BEGIN:VEVENT
DTSTART:20210615T210000Z
DTEND:20210615T220000Z
X-MICROSOFT-CDO-ALLDAYEVENT:FALSE
SUMMARY:IESBDC Webinar: Managing Your Online Presence
DESCRIPTION:Improving Your Ranking On Review Websites Positive online reviews can help a business grow. Unfortunately\, negative reviews can scare away prospective customers. We will discuss the major review websites like TripAdvisor\, Yelp\, and Google and recommend ways to present your business in the best possible light. We will also discuss how to improve your ranking for these sites and how best to deal with negative reviews.
X-ALT-DESC;FMTTYPE=text/html:Improving Your Ranking On Review Websites Positive online reviews can help a business grow. Unfortunately\, negative reviews can scare away prospective customers. We will discuss the major review websites like TripAdvisor\, Yelp\, and Google and recommend ways to present your business in the best possible light. We will also discuss how to improve your ranking for these sites and how best to deal with negative reviews.
LOCATION:
UID:e.1843.3072
SEQUENCE:3
DTSTAMP:20260424T200343Z
URL:https://business.movalchamber.org/events/details/iesbdc-webinar-managing-your-online-presence-06-15-2021-3072
END:VEVENT

END:VCALENDAR
