BEGIN:VCALENDAR
VERSION:2.0
PRODID:-//ChamberMaster//Event Calendar 2.0//EN
METHOD:PUBLISH
X-PUBLISHED-TTL:P3D
REFRESH-INTERVAL:P3D
CALSCALE:GREGORIAN
BEGIN:VEVENT
DTSTART:20210608T210000Z
DTEND:20210608T220000Z
X-MICROSOFT-CDO-ALLDAYEVENT:FALSE
SUMMARY:IESBDC Webinar: Managing Your Online Presence
DESCRIPTION:How To Market Your Business Through Social Media Social media is an affordable way to market your business to current and prospective customers\, but it can be overwhelming. This week we will discuss how to choose the right social media channels for your business\, and then develop a strategy to post consistently.
X-ALT-DESC;FMTTYPE=text/html:How To Market Your Business Through Social Media Social media is an affordable way to market your business to current and prospective customers\, but it can be overwhelming. This week we will discuss how to choose the right social media channels for your business\, and then develop a strategy to post consistently.
LOCATION:
UID:e.1843.3064
SEQUENCE:3
DTSTAMP:20260424T180730Z
URL:https://business.movalchamber.org/events/details/iesbdc-webinar-managing-your-online-presence-3064
END:VEVENT

END:VCALENDAR
