BEGIN:VCALENDAR
VERSION:2.0
PRODID:-//ChamberMaster//Event Calendar 2.0//EN
METHOD:PUBLISH
X-PUBLISHED-TTL:P3D
REFRESH-INTERVAL:P3D
CALSCALE:GREGORIAN
BEGIN:VEVENT
DTSTART:20210611T010000Z
DTEND:20210611T020000Z
X-MICROSOFT-CDO-ALLDAYEVENT:FALSE
SUMMARY:IESBDC Webinar: Meet the Prime – Hensel Phelps
DESCRIPTION:Are you a contractor having a hard time landing bids or want to learn more about what Prime Contractors are looking for? Join us for a discussion led by Hensel Phelps to learn about: Their Current Job Opportunities Doing Business with Hensel Phelps Subcontractor Requirements Minority Project Requirements
X-ALT-DESC;FMTTYPE=text/html:Are you a contractor having a hard time landing bids or want to learn more about what Prime Contractors are looking for? Join us for a discussion led by Hensel Phelps to learn about: Their Current Job Opportunities Doing Business with Hensel Phelps Subcontractor Requirements Minority Project Requirements
LOCATION:
UID:e.1843.3069
SEQUENCE:3
DTSTAMP:20260424T180857Z
URL:https://business.movalchamber.org/events/details/iesbdc-webinar-meet-the-prime-hensel-phelps-3069
END:VEVENT

END:VCALENDAR
