BEGIN:VCALENDAR
VERSION:2.0
PRODID:-//ChamberMaster//Event Calendar 2.0//EN
METHOD:PUBLISH
X-PUBLISHED-TTL:P3D
REFRESH-INTERVAL:P3D
CALSCALE:GREGORIAN
BEGIN:VEVENT
DTSTART:20210625T170000Z
DTEND:20210625T180000Z
X-MICROSOFT-CDO-ALLDAYEVENT:FALSE
SUMMARY:IESBDC Webinar: Márketing De Medios Sociales
DESCRIPTION:Social Media Marketing in Spanish La presencia en las redes sociales es muy importante durante una pandemia global. Acomp  anos para una serie de dos d as para informarte de todo lo que necesitas saber sobre m rketing a trav s de las redes sociales. Segunda Clase | Viernes\, 25 de Junio | Estrategia De Redes Sociales Creando Una Estrategia Ejecutando Campa as
X-ALT-DESC;FMTTYPE=text/html:Social Media Marketing in Spanish La presencia en las redes sociales es muy importante durante una pandemia global. Acomp&aacute\;&ntilde\;anos para una serie de dos d&iacute\;as para informarte de todo lo que necesitas saber sobre m&aacute\;rketing a trav&eacute\;s de las redes sociales. Segunda Clase | Viernes\, 25 de Junio | Estrategia De Redes Sociales Creando Una Estrategia Ejecutando Campa&ntilde\;as
LOCATION:
UID:e.1843.3084
SEQUENCE:3
DTSTAMP:20260424T181108Z
URL:https://business.movalchamber.org/events/details/iesbdc-webinar-m&#225;rketing-de-medios-sociales-06-25-2021-3084
END:VEVENT

END:VCALENDAR
