BEGIN:VCALENDAR
VERSION:2.0
PRODID:-//ChamberMaster//Event Calendar 2.0//EN
METHOD:PUBLISH
X-PUBLISHED-TTL:P3D
REFRESH-INTERVAL:P3D
CALSCALE:GREGORIAN
BEGIN:VEVENT
DTSTART:20210624T170000Z
DTEND:20210624T180000Z
X-MICROSOFT-CDO-ALLDAYEVENT:FALSE
SUMMARY:IESBDC Webinar: Márketing De Medios Sociales
DESCRIPTION:Social Media Marketing in Spanish La presencia en las redes sociales es muy importante durante una pandemia global. Acomp  anos para una serie de dos d as para informarte de todo lo que necesitas saber sobre m rketing a trav s de las redes sociales. Primera Clase | Jueves\, 24 de Junio | Conceptos B sicos De M rketing En Redes Sociales  Qu  es el m rketing en redes sociales? Comienzo inicial Etiquetas y c mo usarlas
X-ALT-DESC;FMTTYPE=text/html:Social Media Marketing in Spanish La presencia en las redes sociales es muy importante durante una pandemia global. Acomp&aacute\;&ntilde\;anos para una serie de dos d&iacute\;as para informarte de todo lo que necesitas saber sobre m&aacute\;rketing a trav&eacute\;s de las redes sociales. Primera Clase | Jueves\, 24 de Junio | Conceptos B&aacute\;sicos De M&aacute\;rketing En Redes Sociales &iquest\;Qu&eacute\; es el m&aacute\;rketing en redes sociales? Comienzo inicial Etiquetas y c&oacute\;mo usarlas
LOCATION:
UID:e.1843.3083
SEQUENCE:3
DTSTAMP:20260424T180929Z
URL:https://business.movalchamber.org/events/details/iesbdc-webinar-m&#225;rketing-de-medios-sociales-3083
END:VEVENT

END:VCALENDAR
