BEGIN:VCALENDAR
VERSION:2.0
PRODID:-//ChamberMaster//Event Calendar 2.0//EN
METHOD:PUBLISH
X-PUBLISHED-TTL:P3D
REFRESH-INTERVAL:P3D
CALSCALE:GREGORIAN
BEGIN:VEVENT
DTSTART:20210617T190000Z
DTEND:20210617T190000Z
X-MICROSOFT-CDO-ALLDAYEVENT:FALSE
SUMMARY:IESBDC Webinar: Social Media Marketing
DESCRIPTION:A presence on social media can be critical during a global pandemic. Join us for this two day series that will discuss all you need to know about marketing via Social Media! Class Two | June 17 | Social Media Marketing Strategy Creating a Strategy Running Campaigns
X-ALT-DESC;FMTTYPE=text/html:A presence on social media can be critical during a global pandemic. Join us for this two day series that will discuss all you need to know about marketing via Social Media! Class Two | June 17 | Social Media Marketing Strategy Creating a Strategy Running Campaigns
LOCATION:
UID:e.1843.3077
SEQUENCE:3
DTSTAMP:20260424T200312Z
URL:https://business.movalchamber.org/events/details/iesbdc-webinar-social-media-marketing-06-17-2021-3077
END:VEVENT

END:VCALENDAR
