BEGIN:VCALENDAR
VERSION:2.0
PRODID:-//ChamberMaster//Event Calendar 2.0//EN
METHOD:PUBLISH
X-PUBLISHED-TTL:P3D
REFRESH-INTERVAL:P3D
CALSCALE:GREGORIAN
BEGIN:VEVENT
DTSTART:20210616T210000Z
DTEND:20210616T220000Z
X-MICROSOFT-CDO-ALLDAYEVENT:FALSE
SUMMARY:IESBDC Webinar: Social Media Marketing
DESCRIPTION:A presence on social media can be critical during a global pandemic. Join us for this two day series that will discuss all you need to know about marketing via Social Media! Class One | June 16 | Social Media Marketing Basics What is Social Media Marketing? Getting Started Hashtags and How to Use Them
X-ALT-DESC;FMTTYPE=text/html:A presence on social media can be critical during a global pandemic. Join us for this two day series that will discuss all you need to know about marketing via Social Media! Class One | June 16 | Social Media Marketing Basics What is Social Media Marketing? Getting Started Hashtags and How to Use Them
LOCATION:
UID:e.1843.3074
SEQUENCE:3
DTSTAMP:20260424T180930Z
URL:https://business.movalchamber.org/events/details/iesbdc-webinar-social-media-marketing-3074
END:VEVENT

END:VCALENDAR
