BEGIN:VCALENDAR
VERSION:2.0
PRODID:-//ChamberMaster//Event Calendar 2.0//EN
METHOD:PUBLISH
X-PUBLISHED-TTL:P3D
REFRESH-INTERVAL:P3D
CALSCALE:GREGORIAN
BEGIN:VEVENT
DTSTART:20210707T180000Z
DTEND:20210707T190000Z
X-MICROSOFT-CDO-ALLDAYEVENT:FALSE
SUMMARY:IESBDC Webinar: Use Youtube Para Hacer Crecer su Negocio
DESCRIPTION:(Use YouTube to Grow Your Business - in Spanish) Obtenga las mejores pr cticas para crear un canal de YouTube y contenido atractivo que promueva sus productos y servicios y tambien aumente el conocimiento de su marca.  Tiene una pregunta? P ngase en contacto con Jessica por correo electr nico\, JAnguiano@iesmallbusiness.com. Recibira un enlace el dia antes del seminario web.
X-ALT-DESC;FMTTYPE=text/html:(Use YouTube to Grow Your Business - in Spanish) Obtenga las mejores pr&aacute\;cticas para crear un canal de YouTube y contenido atractivo que promueva sus productos y servicios y tambien aumente el conocimiento de su marca. &iquest\;Tiene una pregunta? P&oacute\;ngase en contacto con Jessica por correo electr&oacute\;nico\, JAnguiano@iesmallbusiness.com. Recibira un enlace el dia antes del seminario web.
LOCATION:
UID:e.1843.3107
SEQUENCE:3
DTSTAMP:20260424T163934Z
URL:https://business.movalchamber.org/events/details/iesbdc-webinar-use-youtube-para-hacer-crecer-su-negocio-3107
END:VEVENT

END:VCALENDAR
