BEGIN:VCALENDAR
VERSION:2.0
PRODID:-//ChamberMaster//Event Calendar 2.0//EN
METHOD:PUBLISH
X-PUBLISHED-TTL:P3D
REFRESH-INTERVAL:P3D
CALSCALE:GREGORIAN
BEGIN:VEVENT
DTSTART:20200325T010000Z
DTEND:20200325T030000Z
X-MICROSOFT-CDO-ALLDAYEVENT:FALSE
SUMMARY:IEWBC ¦ The ABC’s of Starting Your Own Business
DESCRIPTION:At the workshop you will understand the steps to start a business. Learn about the sources and requirements of funding which licenses and permits are required\, and the importance of writing a business plan.
X-ALT-DESC;FMTTYPE=text/html:At the workshop you will understand the steps to start a business. Learn about the sources and requirements of funding which licenses and permits are required\, and the importance of writing a business plan.
LOCATION:Moreno Valley Employment Resource Center 12625 Frederick St. Suite K3\, Moreno Valley\, CA\, 92553
UID:e.1843.2962
SEQUENCE:3
DTSTAMP:20260425T233905Z
URL:https://business.movalchamber.org/events/details/iewbc-the-abc-s-of-starting-your-own-business-2962
END:VEVENT

END:VCALENDAR
