BEGIN:VCALENDAR
VERSION:2.0
PRODID:-//ChamberMaster//Event Calendar 2.0//EN
METHOD:PUBLISH
X-PUBLISHED-TTL:P3D
REFRESH-INTERVAL:P3D
CALSCALE:GREGORIAN
BEGIN:VEVENT
DTSTART:20210114T180000Z
DTEND:20210114T193000Z
X-MICROSOFT-CDO-ALLDAYEVENT:FALSE
SUMMARY:Incorporating Your Small Business
DESCRIPTION:The process of incorporating your business can be a difficult one - what forms do you need\, what processes will your new company need to follow to comply? Presenter Attorney Gary Foltz has over 20 years of experience helping entrepreneurs incorporate their small businesses\, and will discuss forming a corporation\; the various forms of organization\; selecting the type of organization that's right for you\; as well as answering your business planning questions.
X-ALT-DESC;FMTTYPE=text/html:The process of incorporating your business can be a difficult one - what forms do you need\, what processes will your new company need to follow to comply? Presenter Attorney Gary Foltz has over 20 years of experience helping entrepreneurs incorporate their small businesses\, and will discuss forming a corporation\; the various forms of organization\; selecting the type of organization that&rsquo\;s right for you\; as well as answering your business planning questions.
LOCATION:Online
UID:e.1843.3004
SEQUENCE:3
DTSTAMP:20260425T033018Z
URL:https://business.movalchamber.org/events/details/incorporating-your-small-business-01-14-2021-3004
END:VEVENT

END:VCALENDAR
