BEGIN:VCALENDAR
VERSION:2.0
PRODID:-//ChamberMaster//Event Calendar 2.0//EN
METHOD:PUBLISH
X-PUBLISHED-TTL:P3D
REFRESH-INTERVAL:P3D
CALSCALE:GREGORIAN
BEGIN:VEVENT
DTSTART:20201005T210000Z
DTEND:20201019T223000Z
X-MICROSOFT-CDO-ALLDAYEVENT:FALSE
SUMMARY:Introduction to QuickBooks Online Webinar Series
DESCRIPTION:This webinar is the first and part of a three part webinar series and is designed for new or prospective QuickBooks Online (QBO) users who have questions about key processes and software functions. Join us for an in-depth introduction to QuickBooks that will cover the key features of the accounting software and how to implement them into your overall accounting system.
X-ALT-DESC;FMTTYPE=text/html:This webinar is the first and part of a three part webinar series and is designed for new or prospective QuickBooks Online (QBO) users who have questions about key processes and software functions. Join us for an in-depth introduction to QuickBooks that will cover the key features of the accounting software and how to implement them into your overall accounting system.
LOCATION:Online
UID:e.1843.2977
SEQUENCE:3
DTSTAMP:20260425T105020Z
URL:https://business.movalchamber.org/events/details/introduction-to-quickbooks-online-webinar-series-2977
END:VEVENT

END:VCALENDAR
