BEGIN:VCALENDAR
VERSION:2.0
PRODID:-//ChamberMaster//Event Calendar 2.0//EN
METHOD:PUBLISH
X-PUBLISHED-TTL:P3D
REFRESH-INTERVAL:P3D
CALSCALE:GREGORIAN
BEGIN:VEVENT
DTSTART:20200501T003000Z
DTEND:20200501T030000Z
X-MICROSOFT-CDO-ALLDAYEVENT:FALSE
SUMMARY:Landfill After Hours\, An Evening of Giving
DESCRIPTION:An event benefiting Riverside University Health Medical Center Department of Pediatrics
X-ALT-DESC;FMTTYPE=text/html:An event benefiting Riverside University Health Medical Center Department of Pediatrics
LOCATION:Badlands Landfill 31125 Ironwood Avenue Moreno Valley
UID:e.1843.2896
SEQUENCE:3
DTSTAMP:20260425T214054Z
URL:https://business.movalchamber.org/events/details/landfill-after-hours-an-evening-of-giving-2896
END:VEVENT

END:VCALENDAR
