BEGIN:VCALENDAR
VERSION:2.0
PRODID:-//ChamberMaster//Event Calendar 2.0//EN
METHOD:PUBLISH
X-PUBLISHED-TTL:P3D
REFRESH-INTERVAL:P3D
CALSCALE:GREGORIAN
BEGIN:VEVENT
DTSTART:20160804T220000Z
DTEND:20160805T010000Z
X-MICROSOFT-CDO-ALLDAYEVENT:FALSE
SUMMARY:Les Schwab Grand Opening Celebration and Ribbon Cutting
DESCRIPTION:Grand Opening Celebration\n\nThursday\, August 4 - 6\, 2016\n\n \n\nRibbon Cutting\n\nThursday\, August 4\, 2016 \n\n3:00 p.m.\n\n12682 Perris Blvd.\n\nMoreno Valley\, 92553
X-ALT-DESC;FMTTYPE=text/html:<p><span style="font-size:14px\;"><span style="font-family:times new roman\;"><strong>Grand Opening Celebration</strong><br />\n<strong>Thursday\, August 4 - 6\, 2016</strong><br />\n&nbsp\;<br />\n<strong>Ribbon Cutting</strong><br />\n<strong>Thursday\, August 4\, 2016&nbsp\;</strong><br />\n<strong>3:00 p.m.</strong><br />\n<strong>12682 Perris Blvd.</strong><br />\n<strong>Moreno Valley\, 92553</strong></span></span></p>\n
LOCATION:12682 Perris Blvd. Moreno Valley\, 92553
UID:e.1843.1662
SEQUENCE:3
DTSTAMP:20260426T041609Z
URL:https://business.movalchamber.org/events/details/les-schwab-grand-opening-celebration-and-ribbon-cutting-08-04-2016-1662
END:VEVENT

END:VCALENDAR
