BEGIN:VCALENDAR
VERSION:2.0
PRODID:-//ChamberMaster//Event Calendar 2.0//EN
METHOD:PUBLISH
X-PUBLISHED-TTL:P3D
REFRESH-INTERVAL:P3D
CALSCALE:GREGORIAN
BEGIN:VEVENT
DTSTART:20201020T200000Z
DTEND:20201020T210000Z
X-MICROSOFT-CDO-ALLDAYEVENT:FALSE
SUMMARY:Loans for Your Small Business
DESCRIPTION:Are you seeking funding for your small business or have you been affected by COVID-19? Join us to learn about the funding options that are available to you\, where to start and how to qualify. Learn from a former underwriter the language of finance (cash flow\, collateral\, credit). Additionally\, we will discuss current relief funding options related to the COVID-19 pandemic. We will also have a guest speaker from First Citizen Bank to discuss their banking services. You will receive a link to join this webinar the day before.
X-ALT-DESC;FMTTYPE=text/html:Are you seeking funding for your small business or have you been affected by COVID-19? Join us to learn about the funding options that are available to you\, where to start and how to qualify. Learn from a former underwriter the language of finance (cash flow\, collateral\, credit). Additionally\, we will discuss current relief funding options related to the COVID-19 pandemic. We will also have a guest speaker from First Citizen Bank to discuss their banking services. You will receive a link to join this webinar the day before.
LOCATION:Online
UID:e.1843.2984
SEQUENCE:3
DTSTAMP:20260425T104151Z
URL:https://business.movalchamber.org/events/details/loans-for-your-small-business-2984
END:VEVENT

END:VCALENDAR
