BEGIN:VCALENDAR
VERSION:2.0
PRODID:-//ChamberMaster//Event Calendar 2.0//EN
METHOD:PUBLISH
X-PUBLISHED-TTL:P3D
REFRESH-INTERVAL:P3D
CALSCALE:GREGORIAN
BEGIN:VEVENT
DTSTART:20160921T160000Z
DTEND:20160921T190000Z
X-MICROSOFT-CDO-ALLDAYEVENT:FALSE
SUMMARY:Marketing Automation
DESCRIPTION:Inland Empire Small Business Development Center: This seminar will go beyond the basics of eCommerce marketing and offer techniques to help you build a better eCommerce business. Topics to be discussed include: Understanding the New Sales and Marketing Environment\, How to Automate Daily Marketing Tasks to Succeed\, Using Analytics to Better Your Results\, and much more! This workshop will be presented by Joe Martinico of Joe Martinico Enterprises.
X-ALT-DESC;FMTTYPE=text/html:Inland Empire Small Business Development Center: This seminar will go beyond the basics of eCommerce marketing and offer techniques to help you build a better eCommerce business. Topics to be discussed include: Understanding the New Sales and Marketing Environment\, How to Automate Daily Marketing Tasks to Succeed\, Using Analytics to Better Your Results\, and much more! This workshop will be presented by Joe Martinico of Joe Martinico Enterprises.
LOCATION:Moreno Valley Conference Center - 14075 Frederick Street (Alessandro Room A)
UID:e.1843.1455
SEQUENCE:3
DTSTAMP:20260426T043456Z
URL:https://business.movalchamber.org/events/details/marketing-automation-09-21-2016-1455
END:VEVENT

END:VCALENDAR
