BEGIN:VCALENDAR
VERSION:2.0
PRODID:-//ChamberMaster//Event Calendar 2.0//EN
METHOD:PUBLISH
X-PUBLISHED-TTL:P3D
REFRESH-INTERVAL:P3D
CALSCALE:GREGORIAN
BEGIN:VEVENT
DTSTART:20160811T190000Z
DTEND:20160811T200000Z
X-MICROSOFT-CDO-ALLDAYEVENT:FALSE
SUMMARY:Military Affairs Committee (MAC)
DESCRIPTION:This committee provides communication and partnership between the Chamber and March Air Reserve Base.  This is particularly important as March Field assumes its new status as the nation?s largest Air Force Reserve Base.
X-ALT-DESC;FMTTYPE=text/html:<span style="color: rgb(68\, 68\, 68)\; font-family: Tahoma\, Arial\, sans-serif\; font-size: 15px\; line-height: 18.2000007629395px\;">This committee provides communication and partnership between the Chamber and March Air Reserve Base.&nbsp\; This is particularly important as March Field assumes its new status as the nation?s largest Air Force Reserve Base.</span>
LOCATION:A different location each month. Call the Chamber for information.
UID:e.1843.1445
SEQUENCE:3
DTSTAMP:20260426T025616Z
URL:https://business.movalchamber.org/events/details/military-affairs-committee-mac-08-11-2016-1445
END:VEVENT

END:VCALENDAR
