BEGIN:VCALENDAR
VERSION:2.0
PRODID:-//ChamberMaster//Event Calendar 2.0//EN
METHOD:PUBLISH
X-PUBLISHED-TTL:P3D
REFRESH-INTERVAL:P3D
CALSCALE:GREGORIAN
BEGIN:VEVENT
DTSTART:20210617T180000Z
DTEND:20210617T193000Z
X-MICROSOFT-CDO-ALLDAYEVENT:FALSE
SUMMARY:NAWBO Webinar: Making Money From Water
DESCRIPTION:This webinar will be discussing how to get certified\, what to do once you are certified and how to win contracts. Learn how to bid on contracts for multiple water districts Becoming a certified WBO Benefits from being a certified WBO and how it can help you with bids and contracts.
X-ALT-DESC;FMTTYPE=text/html:This webinar will be discussing how to get certified\, what to do once you are certified and how to win contracts. Learn how to bid on contracts for multiple water districts Becoming a certified WBO Benefits from being a certified WBO and how it can help you with bids and contracts.
LOCATION:
UID:e.1843.3076
SEQUENCE:3
DTSTAMP:20260424T180616Z
URL:https://business.movalchamber.org/events/details/nawbo-webinar-making-money-from-water-3076
END:VEVENT

END:VCALENDAR
