BEGIN:VCALENDAR
VERSION:2.0
PRODID:-//ChamberMaster//Event Calendar 2.0//EN
METHOD:PUBLISH
X-PUBLISHED-TTL:P3D
REFRESH-INTERVAL:P3D
CALSCALE:GREGORIAN
BEGIN:VEVENT
DTSTART:20160817T160000Z
DTEND:20160817T180000Z
X-MICROSOFT-CDO-ALLDAYEVENT:FALSE
SUMMARY:Open for Business
DESCRIPTION:Inland Empire Small Business Development Center Training Event: If you are a new or aspiring business owner this workshop is a must! At this workshop\, you will learn the steps to take towards starting your first business. The ?Open for Business? workshop is presented by an SBDC Business Consultant who will discuss informational topics such as: ? Being an Entrepreneur ? Business Planning ? Small Business Financing ? Legal Forms of Organization ? Licensing and Permits ? The Services Provided By The Inland Empire SBDC
X-ALT-DESC;FMTTYPE=text/html:Inland Empire Small Business Development Center Training Event: If you are a new or aspiring business owner this workshop is a must! At this workshop\, you will learn the steps to take towards starting your first business. The ?Open for Business? workshop is presented by an SBDC Business Consultant who will discuss informational topics such as: ? Being an Entrepreneur ? Business Planning ? Small Business Financing ? Legal Forms of Organization ? Licensing and Permits ? The Services Provided By The Inland Empire SBDC
LOCATION:Moreno Valley Conference Center - 14075 Frederick Street (Alessandro Room A)
UID:e.1843.1432
SEQUENCE:3
DTSTAMP:20260426T025358Z
URL:https://business.movalchamber.org/events/details/open-for-business-08-17-2016-1432
END:VEVENT

END:VCALENDAR
