BEGIN:VCALENDAR
VERSION:2.0
PRODID:-//ChamberMaster//Event Calendar 2.0//EN
METHOD:PUBLISH
X-PUBLISHED-TTL:P3D
REFRESH-INTERVAL:P3D
CALSCALE:GREGORIAN
BEGIN:VEVENT
DTSTART:20200422T160000Z
DTEND:20200422T180000Z
X-MICROSOFT-CDO-ALLDAYEVENT:FALSE
SUMMARY:Perfecting Your Pitch
DESCRIPTION:Inland Empire Small Business Development Center Training Event: Networking events\, sales meetings\, and investor presentations got you jittery? Come and learn how to present your product\, company and yourself in a concise\, professional and powerful manner. Join guest speaker Jim McLaughlin for this interactive workshop to learn how to Perfect Your Pitch.
X-ALT-DESC;FMTTYPE=text/html:Inland Empire Small Business Development Center Training Event: Networking events\, sales meetings\, and investor presentations got you jittery? Come and learn how to present your product\, company and yourself in a concise\, professional and powerful manner. Join guest speaker Jim McLaughlin for this interactive workshop to learn how to Perfect Your Pitch.
LOCATION:Moreno Valley Employment Resource Center\, 12625 Frederick Street\, Suite K-3\, Moreno Valley CA 92552
UID:e.1843.2894
SEQUENCE:3
DTSTAMP:20260425T195839Z
URL:https://business.movalchamber.org/events/details/perfecting-your-pitch-04-22-2020-2894
END:VEVENT

END:VCALENDAR
