BEGIN:VCALENDAR
VERSION:2.0
PRODID:-//ChamberMaster//Event Calendar 2.0//EN
METHOD:PUBLISH
X-PUBLISHED-TTL:P3D
REFRESH-INTERVAL:P3D
CALSCALE:GREGORIAN
BEGIN:VEVENT
DTSTART:20200416T000000Z
DTEND:20200416T030000Z
X-MICROSOFT-CDO-ALLDAYEVENT:FALSE
SUMMARY:QuickBooks for Beginners 101
DESCRIPTION:Inland Empire Small Business Development Center Training Event: Learn how to be more efficient and simplify your bookkeeping using the QuickBooks Accounting Software. This seminar will demonstrate functions useful for daily operations in your small business\, including Setting up Your System\, Navigating QuickBooks Software\, Organizing the Chart of Accounts\, Computerized Balance & Income Sheets\, Accounts Payable/Receivable and Daily Operations including Payment of Invoices & Creation of Customer Invoices. Note: This QuickBooks course is instructed using the Desktop version of QuickBooks.
X-ALT-DESC;FMTTYPE=text/html:Inland Empire Small Business Development Center Training Event: Learn how to be more efficient and simplify your bookkeeping using the QuickBooks Accounting Software. This seminar will demonstrate functions useful for daily operations in your small business\, including Setting up Your System\, Navigating QuickBooks Software\, Organizing the Chart of Accounts\, Computerized Balance &amp\; Income Sheets\, Accounts Payable/Receivable and Daily Operations including Payment of Invoices &amp\; Creation of Customer Invoices. Note: This QuickBooks course is instructed using the Desktop version of QuickBooks.
LOCATION:Moreno Valley Employment Resource Center\, 12625 Frederick Street\, Suite K-3\, Moreno Valley CA 92552
UID:e.1843.2893
SEQUENCE:3
DTSTAMP:20260425T213616Z
URL:https://business.movalchamber.org/events/details/quickbooks-for-beginners-101-04-15-2020-2893
END:VEVENT

END:VCALENDAR
