BEGIN:VCALENDAR
VERSION:2.0
PRODID:-//ChamberMaster//Event Calendar 2.0//EN
METHOD:PUBLISH
X-PUBLISHED-TTL:P3D
REFRESH-INTERVAL:P3D
CALSCALE:GREGORIAN
BEGIN:VEVENT
DTSTART:20200219T170000Z
DTEND:20200219T200000Z
X-MICROSOFT-CDO-ALLDAYEVENT:FALSE
SUMMARY:QuickBooks for Beginners 102
DESCRIPTION:Inland Empire Small Business Development Center Training Event: This seminar was designed to build upon the principles introduced in the QuickBooks for Beginners seminar and will discuss the following topics: - Creating & Setting up a Company - Working With Lists - Working with Bank Accounts - Using Other Accounts in QuickBooks - Entering Sales Information - Receiving Payments & Making Deposits - Entering and Paying Bills - Your Options With QuickBooks Payroll - Analyzing Job Cost & Financial Data Note: This QuickBooks course is instructed using the Desktop version of QuickBooks.
X-ALT-DESC;FMTTYPE=text/html:Inland Empire Small Business Development Center Training Event: This seminar was designed to build upon the principles introduced in the QuickBooks for Beginners seminar and will discuss the following topics: - Creating &amp\; Setting up a Company - Working With Lists - Working with Bank Accounts - Using Other Accounts in QuickBooks - Entering Sales Information - Receiving Payments &amp\; Making Deposits - Entering and Paying Bills - Your Options With QuickBooks Payroll - Analyzing Job Cost &amp\; Financial Data Note: This QuickBooks course is instructed using the Desktop version of QuickBooks.
LOCATION:Moreno Valley Employment Resource Center\, 12625 Frederick Street\, Suite K-3\, Moreno Valley CA 92552
UID:e.1843.2859
SEQUENCE:3
DTSTAMP:20260425T233223Z
URL:https://business.movalchamber.org/events/details/quickbooks-for-beginners-102-02-19-2020-2859
END:VEVENT

END:VCALENDAR
