BEGIN:VCALENDAR
VERSION:2.0
PRODID:-//ChamberMaster//Event Calendar 2.0//EN
METHOD:PUBLISH
X-PUBLISHED-TTL:P3D
REFRESH-INTERVAL:P3D
CALSCALE:GREGORIAN
BEGIN:VEVENT
DTSTART:20160713T160000Z
DTEND:20160713T190000Z
X-MICROSOFT-CDO-ALLDAYEVENT:FALSE
SUMMARY:QuickBooks for Beginners Workshop
DESCRIPTION:Inland Empire Small Business Development Center: Learn how to be more efficient and simplify your bookkeeping using the QuickBooks Accounting Software. This seminar will demonstrate functions useful for daily operations in your small business\, including Setting up Your System\, Navigating QuickBooks Software\, Organizing the Chart of Accounts\, Computerized Balance & Income Sheets\, Accounts Payable/Receivable and Daily Operations including Payment of Invoices & Creation of Customer Invoices.
X-ALT-DESC;FMTTYPE=text/html:Inland Empire Small Business Development Center: Learn how to be more efficient and simplify your bookkeeping using the QuickBooks Accounting Software. This seminar will demonstrate functions useful for daily operations in your small business\, including Setting up Your System\, Navigating QuickBooks Software\, Organizing the Chart of Accounts\, Computerized Balance &amp\; Income Sheets\, Accounts Payable/Receivable and Daily Operations including Payment of Invoices &amp\; Creation of Customer Invoices.
LOCATION:Moreno Valley Conference Center - 14075 Frederick Street (Alessandro Room A)
UID:e.1843.1428
SEQUENCE:3
DTSTAMP:20260426T022448Z
URL:https://business.movalchamber.org/events/details/quickbooks-for-beginners-workshop-07-13-2016-1428
END:VEVENT

END:VCALENDAR
