BEGIN:VCALENDAR
VERSION:2.0
PRODID:-//ChamberMaster//Event Calendar 2.0//EN
METHOD:PUBLISH
X-PUBLISHED-TTL:P3D
REFRESH-INTERVAL:P3D
CALSCALE:GREGORIAN
BEGIN:VEVENT
DTSTART:20200218T180000Z
DTEND:20200218T190000Z
X-MICROSOFT-CDO-ALLDAYEVENT:FALSE
SUMMARY:Ribbon Cutting - Burger IM
DESCRIPTION:Join Us to Welcome\n\nBurger IM\n\nto Moreno Valley
X-ALT-DESC;FMTTYPE=text/html:<div style="text-align: center\;"><font color="#f40d16" face="arial\, sans-serif"><span style="font-size: 18px\;"><b>Join Us to Welcome<br />\nBurger IM<br />\nto Moreno Valley</b></span></font><br />\n&nbsp\;</div>\n
LOCATION:27130 Eucalyptus Ave.\, Suite B Moreno Valley\, CA 92557
UID:e.1843.2953
SEQUENCE:3
DTSTAMP:20260425T233130Z
URL:https://business.movalchamber.org/events/details/ribbon-cutting-burger-im-2953
END:VEVENT

END:VCALENDAR
