BEGIN:VCALENDAR
VERSION:2.0
PRODID:-//ChamberMaster//Event Calendar 2.0//EN
METHOD:PUBLISH
X-PUBLISHED-TTL:P3D
REFRESH-INTERVAL:P3D
CALSCALE:GREGORIAN
BEGIN:VEVENT
DTSTART:20191206T200000Z
DTEND:20191206T210000Z
X-MICROSOFT-CDO-ALLDAYEVENT:FALSE
SUMMARY:Ribbon Cutting - Coffee Bean & Tea Leaf
DESCRIPTION:Join Us to Welcome\n\nCoffee Bean & Tea Leaf\n\nTo Moreno Valley
X-ALT-DESC;FMTTYPE=text/html:<div style="color: rgb(70\, 70\, 70)\; font-family: Arial\, Verdana\, Helvetica\, sans-serif\; font-size: 14px\; white-space: pre-wrap\; text-align: center\;"><span style="font-size:18px\;"><span style="font-weight: bold\;">Join Us to Welcome</span></span></div>\n\n<div style="color: rgb(70\, 70\, 70)\; font-family: Arial\, Verdana\, Helvetica\, sans-serif\; font-size: 14px\; white-space: pre-wrap\; text-align: center\;"><span style="font-size:18px\;"><span style="font-weight: bold\;">Coffee Bean &amp\; Tea Leaf</span></span></div>\n\n<div style="color: rgb(70\, 70\, 70)\; font-family: Arial\, Verdana\, Helvetica\, sans-serif\; font-size: 14px\; white-space: pre-wrap\; text-align: center\;"><span style="font-size:18px\;"><span style="font-weight: bold\;">To Moreno Valley</span></span></div>\n\n<div style="color: rgb(70\, 70\, 70)\; font-family: Arial\, Verdana\, Helvetica\, sans-serif\; font-size: 14px\; white-space: pre-wrap\; text-align: center\;">&nbsp\;</div>\n\n<div style="color: rgb(70\, 70\, 70)\; font-family: Arial\, Verdana\, Helvetica\, sans-serif\; font-size: 14px\; white-space: pre-wrap\; text-align: center\;">&nbsp\;</div>\n\n<div style="color: rgb(70\, 70\, 70)\; font-family: Arial\, Verdana\, Helvetica\, sans-serif\; font-size: 14px\; white-space: pre-wrap\; text-align: center\;">&nbsp\;</div>\n
LOCATION:12950 Day Street
UID:e.1843.2852
SEQUENCE:3
DTSTAMP:20260426T025359Z
URL:https://business.movalchamber.org/events/details/ribbon-cutting-coffee-bean-tea-leaf-2852
END:VEVENT

END:VCALENDAR
