BEGIN:VCALENDAR
VERSION:2.0
PRODID:-//ChamberMaster//Event Calendar 2.0//EN
METHOD:PUBLISH
X-PUBLISHED-TTL:P3D
REFRESH-INTERVAL:P3D
CALSCALE:GREGORIAN
BEGIN:VEVENT
DTSTART:20160809T183000Z
DTEND:20160809T193000Z
X-MICROSOFT-CDO-ALLDAYEVENT:FALSE
SUMMARY:Ribbon Cutting - CrossFit Southbell
DESCRIPTION:Ribbon Cutting
X-ALT-DESC;FMTTYPE=text/html:Ribbon Cutting
LOCATION:22640 Goldencrest Drive\, Suite 109 Moreno Valley\, 92553
UID:e.1843.1664
SEQUENCE:3
DTSTAMP:20260426T025725Z
URL:https://business.movalchamber.org/events/details/ribbon-cutting-crossfit-southbell-08-09-2016-1664
END:VEVENT

END:VCALENDAR
