BEGIN:VCALENDAR
VERSION:2.0
PRODID:-//ChamberMaster//Event Calendar 2.0//EN
METHOD:PUBLISH
X-PUBLISHED-TTL:P3D
REFRESH-INTERVAL:P3D
CALSCALE:GREGORIAN
BEGIN:VEVENT
DTSTART:20220629T183000Z
DTEND:20220629T193000Z
X-MICROSOFT-CDO-ALLDAYEVENT:FALSE
SUMMARY:Ribbon Cutting - JobSource North America\, Inc.
DESCRIPTION:
X-ALT-DESC;FMTTYPE=text/html:
LOCATION:
UID:e.1843.3376
SEQUENCE:3
DTSTAMP:20260421T124155Z
URL:https://business.movalchamber.org/events/details/ribbon-cutting-jobsource-north-america-inc-3376
END:VEVENT

END:VCALENDAR
