BEGIN:VCALENDAR
VERSION:2.0
PRODID:-//ChamberMaster//Event Calendar 2.0//EN
METHOD:PUBLISH
X-PUBLISHED-TTL:P3D
REFRESH-INTERVAL:P3D
CALSCALE:GREGORIAN
BEGIN:VEVENT
DTSTART:20191210T180000Z
DTEND:20191210T190000Z
X-MICROSOFT-CDO-ALLDAYEVENT:FALSE
SUMMARY:Ribbon Cutting - Sushi Miguel's Style
DESCRIPTION:Ribbon Cutting - Sushi Miguel's Style
X-ALT-DESC;FMTTYPE=text/html:Ribbon Cutting - Sushi Miguel&#39\;s Style&nbsp\;&nbsp\;&nbsp\;&nbsp\;
LOCATION:12625 Frederick St.\, Ste. K1
UID:e.1843.2862
SEQUENCE:3
DTSTAMP:20260426T025616Z
URL:https://business.movalchamber.org/events/details/ribbon-cutting-sushi-miguel-s-style-2862
END:VEVENT

END:VCALENDAR
