BEGIN:VCALENDAR
VERSION:2.0
PRODID:-//ChamberMaster//Event Calendar 2.0//EN
METHOD:PUBLISH
X-PUBLISHED-TTL:P3D
REFRESH-INTERVAL:P3D
CALSCALE:GREGORIAN
BEGIN:VEVENT
DTSTART:20200109T200000Z
DTEND:20200109T210000Z
X-MICROSOFT-CDO-ALLDAYEVENT:FALSE
SUMMARY:Ribbon Cutting - UPS Store
DESCRIPTION:Join us to Welcome the UPS Store to Moreno Valley.
X-ALT-DESC;FMTTYPE=text/html:Join us to Welcome the UPS Store to Moreno Valley.
LOCATION:27120 Eucalyptus Ave Unit G\, Moreno Valley\, CA 92555
UID:e.1843.2870
SEQUENCE:3
DTSTAMP:20260426T025358Z
URL:https://business.movalchamber.org/events/details/ribbon-cutting-ups-store-2870
END:VEVENT

END:VCALENDAR
