BEGIN:VCALENDAR
VERSION:2.0
PRODID:-//ChamberMaster//Event Calendar 2.0//EN
METHOD:PUBLISH
X-PUBLISHED-TTL:P3D
REFRESH-INTERVAL:P3D
CALSCALE:GREGORIAN
BEGIN:VEVENT
DTSTART:20200325T160000Z
DTEND:20200325T180000Z
X-MICROSOFT-CDO-ALLDAYEVENT:FALSE
SUMMARY:SBA ¦ Understanding Your Financials
DESCRIPTION:At this workshop you will get an overview of financial statements and take the mystery out of creating or expanding the financial portion of your business plan. Learn what business numbers mean!
X-ALT-DESC;FMTTYPE=text/html:At this workshop you will get an overview of financial statements and take the mystery out of creating or expanding the financial portion of your business plan. Learn what business numbers mean!
LOCATION:Moreno Valley Employment Resource Center 12625 Frederick St.\, Suite K3\, Moreno Valley\, CA\, 92553
UID:e.1843.2964
SEQUENCE:3
DTSTAMP:20260425T214741Z
URL:https://business.movalchamber.org/events/details/sba-understanding-your-financials-2964
END:VEVENT

END:VCALENDAR
