BEGIN:VCALENDAR
VERSION:2.0
PRODID:-//ChamberMaster//Event Calendar 2.0//EN
METHOD:PUBLISH
X-PUBLISHED-TTL:P3D
REFRESH-INTERVAL:P3D
CALSCALE:GREGORIAN
BEGIN:VEVENT
DTSTART:20191121T170000Z
DTEND:20191121T190000Z
X-MICROSOFT-CDO-ALLDAYEVENT:FALSE
SUMMARY:SBDC Event: How to Start a Small Business - Veteran Edition
DESCRIPTION:Inland Empire Small Business Development Center Training Event: If you are a Veteran who is interested in starting your own business\, this workshop is a must! Learn the steps to starting your own business at the "How to Start a Small Business" workshop\, presented by an SBDC Business Consultant. This introductory course will discuss informational topics such as Being an Entrepreneur\, Business Planning\, Veteran Business Financing options\, the Legal Forms of Organization\, Licensing and Permits\, and Veteran Franchising Opportunities.
X-ALT-DESC;FMTTYPE=text/html:Inland Empire Small Business Development Center Training Event: If you are a Veteran who is interested in starting your own business\, this workshop is a must! Learn the steps to starting your own business at the &ldquo\;How to Start a Small Business&rdquo\; workshop\, presented by an SBDC Business Consultant. This introductory course will discuss informational topics such as Being an Entrepreneur\, Business Planning\, Veteran Business Financing options\, the Legal Forms of Organization\, Licensing and Permits\, and Veteran Franchising Opportunities.
LOCATION:Moreno Valley Employment Resource Center\, 12625 Frederick Street\, Suite K-3\, Moreno Valley CA 92552
UID:e.1843.2815
SEQUENCE:3
DTSTAMP:20260426T043727Z
URL:https://business.movalchamber.org/events/details/sbdc-event-how-to-start-a-small-business-veteran-edition-2815
END:VEVENT

END:VCALENDAR
