BEGIN:VCALENDAR
VERSION:2.0
PRODID:-//ChamberMaster//Event Calendar 2.0//EN
METHOD:PUBLISH
X-PUBLISHED-TTL:P3D
REFRESH-INTERVAL:P3D
CALSCALE:GREGORIAN
BEGIN:VEVENT
DTSTART:20160707T160000Z
DTEND:20160707T180000Z
X-MICROSOFT-CDO-ALLDAYEVENT:FALSE
SUMMARY:SCORE Workshop: Tax Considerations For A Small Business
DESCRIPTION:Inland Empire SCORE Presents a Low Cost Workshop on Tax Considerations For A Small Business. Are we really self employed or just working for the government? What can you deduct and what can't you deduct! These questions will be answered in this dynamic workshop presented by Carlton "Tony" Larrabee\, an Enrolled Agent for the IRS.
X-ALT-DESC;FMTTYPE=text/html:Inland Empire SCORE Presents a Low Cost Workshop on Tax Considerations For A Small Business. Are we really self employed or just working for the government? What can you deduct and what can&#39\;t you deduct! These questions will be answered in this dynamic workshop presented by Carlton &quot\;Tony&quot\; Larrabee\, an Enrolled Agent for the IRS.
LOCATION:Thursday\, July 7\, 2016 9:00 am. 11:00 am Moreno Valley Conference & Recreation Center 14075 Frederick St.\, Moreno Valley\, CA. 92553 Moreno Valley Conference & Recreation Center 14075 Frederick St.\, Moreno Valley\, CA. 92553 Moreno Valley Recreation & Conference Center 14075 Frederick Street Moreno Valley\, CA. 92553
UID:e.1843.1459
SEQUENCE:3
DTSTAMP:20260426T023622Z
URL:https://business.movalchamber.org/events/details/score-workshop-tax-considerations-for-a-small-business-07-07-2016-1459
END:VEVENT

END:VCALENDAR
