BEGIN:VCALENDAR
VERSION:2.0
PRODID:-//ChamberMaster//Event Calendar 2.0//EN
METHOD:PUBLISH
X-PUBLISHED-TTL:P3D
REFRESH-INTERVAL:P3D
CALSCALE:GREGORIAN
BEGIN:VEVENT
DTSTART:20210107T220000Z
DTEND:20210128T230000Z
X-MICROSOFT-CDO-ALLDAYEVENT:FALSE
SUMMARY:Search Engine Optimization (SEO) Webinar Series
DESCRIPTION:Online searches are one of the main ways that potential clients find your business\, especially during a Global Pandemic! Do you need help improving your ranking on websites like Google? Join us for this 4-week Search Engine Optimization (SEO) series to learn how! Topics that will be discussed: - Class One - January 7 - Why your business needs SEO? - Class Two - January 14 - Technical SEO - Class Three - January 21 - On-page SEO - Class Four - January 28 - Off-page SEO - Bonus: Local SEO
X-ALT-DESC;FMTTYPE=text/html:Online searches are one of the main ways that potential clients find your business\, especially during a Global Pandemic! Do you need help improving your ranking on websites like Google? Join us for this 4-week Search Engine Optimization (SEO) series to learn how! Topics that will be discussed: - Class One - January 7 - Why your business needs SEO? - Class Two - January 14 - Technical SEO - Class Three - January 21 - On-page SEO - Class Four - January 28 - Off-page SEO - Bonus: Local SEO
LOCATION:Online
UID:e.1843.2997
SEQUENCE:3
DTSTAMP:20260425T031412Z
URL:https://business.movalchamber.org/events/details/search-engine-optimization-seo-webinar-series-2997
END:VEVENT

END:VCALENDAR
