BEGIN:VCALENDAR
VERSION:2.0
PRODID:-//ChamberMaster//Event Calendar 2.0//EN
METHOD:PUBLISH
X-PUBLISHED-TTL:P3D
REFRESH-INTERVAL:P3D
CALSCALE:GREGORIAN
BEGIN:VEVENT
DTSTART:20200122T020000Z
DTEND:20200122T040000Z
X-MICROSOFT-CDO-ALLDAYEVENT:FALSE
SUMMARY:Small Business Workshop ¦ IEWBC The Bottom Line: Introduction to Business Financials
DESCRIPTION:At this workshop you will learn what your business numbers mean. Get an overview of financial statements and take the mystery out of creating or expanding the financial portion of your business plan.
X-ALT-DESC;FMTTYPE=text/html:At this workshop you will learn what your business numbers mean. Get an overview of financial statements and take the mystery out of creating or expanding the financial portion of your business plan.
LOCATION:Moreno Valley Employment Resource Center 12625 Frederick St.\, Suite K-3\, Moreno Valley\, CA\, 92553
UID:e.1843.2871
SEQUENCE:3
DTSTAMP:20260426T013019Z
URL:https://business.movalchamber.org/events/details/small-business-workshop-iewbc-the-bottom-line-introduction-to-business-financials-2871
END:VEVENT

END:VCALENDAR
