BEGIN:VCALENDAR
VERSION:2.0
PRODID:-//ChamberMaster//Event Calendar 2.0//EN
METHOD:PUBLISH
X-PUBLISHED-TTL:P3D
REFRESH-INTERVAL:P3D
CALSCALE:GREGORIAN
BEGIN:VEVENT
DTSTART:20200122T180000Z
DTEND:20200122T200000Z
X-MICROSOFT-CDO-ALLDAYEVENT:FALSE
SUMMARY:Small Business Workshop ¦ SCORE Branding Through Engaging Customer Service
DESCRIPTION:At this workshop you will learn how to identify and change employee attitudes for the best customer service and drive sales. Avoid terrible customer service!
X-ALT-DESC;FMTTYPE=text/html:At this workshop you will learn how to identify and change employee attitudes for the best customer service and drive sales. Avoid terrible customer service!
LOCATION:Moreno Valley Employment Resource Center 12625 Frederick St.\, Suite K-3\, Moreno Valley\, CA 92553
UID:e.1843.2872
SEQUENCE:3
DTSTAMP:20260426T025512Z
URL:https://business.movalchamber.org/events/details/small-business-workshop-score-branding-through-engaging-customer-service-2872
END:VEVENT

END:VCALENDAR
