BEGIN:VCALENDAR
VERSION:2.0
PRODID:-//ChamberMaster//Event Calendar 2.0//EN
METHOD:PUBLISH
X-PUBLISHED-TTL:P3D
REFRESH-INTERVAL:P3D
CALSCALE:GREGORIAN
BEGIN:VEVENT
DTSTART:20200318T160000Z
DTEND:20200318T223000Z
X-MICROSOFT-CDO-ALLDAYEVENT:FALSE
SUMMARY:State Labor Law and Payroll Tax
DESCRIPTION:You will receive information from the EDD and the Division of Labor Standards Enforcement on: -Recordkeeping\, reporting requirements\, employer obligations\, and payment requirements -Common wage and hour law application Employer and employee rights and responsibilities -How to distinguish between an employee and an independent contractor
X-ALT-DESC;FMTTYPE=text/html:You will receive information from the EDD and the Division of Labor Standards Enforcement on: -Recordkeeping\, reporting requirements\, employer obligations\, and payment requirements -Common wage and hour law application Employer and employee rights and responsibilities -How to distinguish between an employee and an independent contractor
LOCATION:Moreno Valley Employment Resource Center\, 12625 Frederick Street\, Suite K-3\, Moreno Valley CA 92552
UID:e.1843.2891
SEQUENCE:3
DTSTAMP:20260425T233259Z
URL:https://business.movalchamber.org/events/details/state-labor-law-and-payroll-tax-2891
END:VEVENT

END:VCALENDAR
