BEGIN:VCALENDAR
VERSION:2.0
PRODID:-//ChamberMaster//Event Calendar 2.0//EN
METHOD:PUBLISH
X-PUBLISHED-TTL:P3D
REFRESH-INTERVAL:P3D
CALSCALE:GREGORIAN
BEGIN:VEVENT
DTSTART:20240118T173000Z
DTEND:20240118T200000Z
X-MICROSOFT-CDO-ALLDAYEVENT:FALSE
SUMMARY:Supervisor Gutierrez's Nonprofit Assistance Program Workshop
DESCRIPTION:Workshop for RFP program Employer Connect Program
X-ALT-DESC;FMTTYPE=text/html:Workshop for RFP program Employer Connect Program
LOCATION:Edward Dean Museum 9401 Oak Glen Road Cherry Valley 92223
UID:e.1843.3881
SEQUENCE:3
DTSTAMP:20260422T084359Z
URL:https://business.movalchamber.org/events/details/supervisor-gutierrez-s-nonprofit-assistance-program-workshop-3881
END:VEVENT

END:VCALENDAR
