BEGIN:VCALENDAR
VERSION:2.0
PRODID:-//ChamberMaster//Event Calendar 2.0//EN
METHOD:PUBLISH
X-PUBLISHED-TTL:P3D
REFRESH-INTERVAL:P3D
CALSCALE:GREGORIAN
BEGIN:VEVENT
DTSTART:20200212T170000Z
DTEND:20200212T190000Z
X-MICROSOFT-CDO-ALLDAYEVENT:FALSE
SUMMARY:U.S. Small Business Administration ¦ Utilizing Social Media to Grow Your Business
DESCRIPTION:In this workshop you will learn about social media marketing by:   How to monitor customer engagement with the company social media channels   Finding your target market   Looking at business statistics and much more!
X-ALT-DESC;FMTTYPE=text/html:In this workshop you will learn about social media marketing by: &bull\; How to monitor customer engagement with the company social media channels &bull\; Finding your target market &bull\; Looking at business statistics and much more!
LOCATION:Moreno Valley Employment Resource Center 12625 Frederick St.\, Suite K3\, Moreno Valley\, CA\, 92553
UID:e.1843.2949
SEQUENCE:3
DTSTAMP:20260425T233906Z
URL:https://business.movalchamber.org/events/details/u-s-small-business-administration-utilizing-social-media-to-grow-your-business-2949
END:VEVENT

END:VCALENDAR
