BEGIN:VCALENDAR
VERSION:2.0
PRODID:-//ChamberMaster//Event Calendar 2.0//EN
METHOD:PUBLISH
X-PUBLISHED-TTL:P3D
REFRESH-INTERVAL:P3D
CALSCALE:GREGORIAN
BEGIN:VEVENT
DTSTART:20160821T000000Z
DTEND:20160821T040000Z
X-MICROSOFT-CDO-ALLDAYEVENT:FALSE
SUMMARY:Vanguard Art Expo & MusicFest
DESCRIPTION:The Moreno Valley Cultural Arts Foundation hosts its monthly Vanguard Art Expo and MusicFest featuring artists\, artisans and other vendors along with local musicians who perform live. Check out the artwork of Moreno Valley artist\, Tony Lavall at the Vanguard. The event is free to the public and very family friendly.
X-ALT-DESC;FMTTYPE=text/html:The Moreno Valley Cultural Arts Foundation hosts its monthly Vanguard Art Expo and MusicFest featuring artists\, artisans and other vendors along with local musicians who perform live. Check out the artwork of Moreno Valley artist\, Tony Lavall at the Vanguard. The event is free to the public and very family friendly.
LOCATION:Vanguard Art Gallery\, 27120 Eucalyptus Avenue\, Suite A\, Moreno Valley\, CA 92555 Stoneridge Towne Centre Main St Plaza
UID:e.1843.1669
SEQUENCE:3
DTSTAMP:20260426T041429Z
URL:https://business.movalchamber.org/events/details/vanguard-art-expo-musicfest-08-20-2016-1669
END:VEVENT

END:VCALENDAR
