BEGIN:VCALENDAR
VERSION:2.0
PRODID:-//ChamberMaster//Event Calendar 2.0//EN
METHOD:PUBLISH
X-PUBLISHED-TTL:P3D
REFRESH-INTERVAL:P3D
CALSCALE:GREGORIAN
BEGIN:VEVENT
DTSTART:20160826T010000Z
DTEND:20160826T043000Z
X-MICROSOFT-CDO-ALLDAYEVENT:FALSE
SUMMARY:Vanguard Wine & Paint
DESCRIPTION:Thursday evening\, August 25th we host another Wine & Paint. These have proved to be a very fun night for all involved. This is a great way to spend time with friends\, family and someone special We start the night with some complimentary wine and appetizers and a chance to socialize. From there you will sit down at your easel and canvas as Jeni guides you through creating your own painting. At the end of the evening\, you will be able to marvel at the beauty of your own artwork that you then get to take home. All art materials are covered in the price of $40. Walk-ins are an extra $10 the night of the event. If you check other similar events throughout So Cal and elsewhere\, our Wine & Paint event is the best bargain! Once you finish your masterpiece\, you are welcome to continue to socialize. Be sure to wear something you won't mind getting paint on.
X-ALT-DESC;FMTTYPE=text/html:Thursday evening\, August 25th we host another Wine &amp\; Paint. These have proved to be a very fun night for all involved. This is a great way to spend time with friends\, family and someone special We start the night with some complimentary wine and appetizers and a chance to socialize. From there you will sit down at your easel and canvas as Jeni guides you through creating your own painting. At the end of the evening\, you will be able to marvel at the beauty of your own artwork that you then get to take home. All art materials are covered in the price of $40. Walk-ins are an extra $10 the night of the event. If you check other similar events throughout So Cal and elsewhere\, our Wine &amp\; Paint event is the best bargain! Once you finish your masterpiece\, you are welcome to continue to socialize. Be sure to wear something you won&#39\;t mind getting paint on.
LOCATION:Vanguard Art Gallery\, 27120 Eucalyptus Avenue\, Suite A\, Moreno Valley\, CA 92555
UID:e.1843.1670
SEQUENCE:3
DTSTAMP:20260426T025432Z
URL:https://business.movalchamber.org/events/details/vanguard-wine-paint-08-25-2016-1670
END:VEVENT

END:VCALENDAR
