BEGIN:VCALENDAR
VERSION:2.0
PRODID:-//ChamberMaster//Event Calendar 2.0//EN
METHOD:PUBLISH
X-PUBLISHED-TTL:P3D
REFRESH-INTERVAL:P3D
CALSCALE:GREGORIAN
BEGIN:VEVENT
DTSTART:20210210T153000Z
DTEND:20210211T043000Z
X-MICROSOFT-CDO-ALLDAYEVENT:FALSE
SUMMARY:Virtual Business In Action (BIA)
DESCRIPTION:B.I.A. is an excellent opportunity to meet other business and community leaders and to market your business as well as becoming informed on all upcoming events and activities.\n\n \nBusiness In Action Link\n\nWed\, Feb 10\, 2021 7:30 AM - 8:30 AM (PST)\n\nPlease join my meeting from your computer\, tablet or smartphone.\n\n\nhttps://global.gotomeeting.com/join/591587829 \n\nYou can also dial in using your phone. \n\nUnited States: +1 (669) 224-3412\n\nAccess Code: 591-587-829\n\nNew to GoToMeeting? Get the app now and be ready when your first meeting starts: https://global.gotomeeting.com/install/591587829
X-ALT-DESC;FMTTYPE=text/html:<span style="color: rgb(68\, 68\, 68)\; font-family: Tahoma\, Arial\, sans-serif\; font-size: 14px\;">B.I.A. is an excellent opportunity to meet other business and&nbsp\;community leaders and to market your business as well as becoming informed on all upcoming events and activities.</span><br />\n&nbsp\;\n<div style="margin: 0px\; padding: 0px\; border: 0px\; outline: 0px\; color: rgb(0\, 92\, 171)\; font-family: &quot\;Times New Roman&quot\;\, Times\, serif\; font-size: 24px\; text-align: center\;"><span style="margin: 0px\; padding: 0px\; border: 0px\; outline: 0px\; font-size: 14px\; font-weight: bold\;">Business In Action Link</span></div>\n\n<div style="margin: 0px\; padding: 0px\; border: 0px\; outline: 0px\; color: rgb(0\, 92\, 171)\; font-family: &quot\;Times New Roman&quot\;\, Times\, serif\; font-size: 24px\; text-align: center\;"><span style="margin: 0px\; padding: 0px\; border: 0px\; outline: 0px\; font-size: 14px\; font-weight: bold\;"><span class="inv-date" style="margin: 0px\; padding: 0px\; border: 0px\; outline: 0px\;">Wed\, Feb 10\, 2021 7:30 AM - 8:30 AM (PST)</span></span></div>\n\n<div style="margin: 0px\; padding: 0px\; border: 0px\; outline: 0px\; color: rgb(0\, 92\, 171)\; font-family: &quot\;Times New Roman&quot\;\, Times\, serif\; font-size: 24px\;"><span style="margin: 0px\; padding: 0px\; border: 0px\; outline: 0px\; font-family: tahoma\, geneva\, sans-serif\;"><span style="margin: 0px\; padding: 0px\; border: 0px\; outline: 0px\; font-size: 12px\;"><span style="margin: 0px\; padding: 0px\; border: 0px\; outline: 0px\; color: rgb(0\, 92\, 171)\; font-weight: bold\;">Please join my meeting from your computer\, tablet or smartphone.</span></span></span></div>\n\n<div style="margin: 0px\; padding: 0px\; border: 0px\; outline: 0px\; color: rgb(0\, 92\, 171)\; font-family: &quot\;Times New Roman&quot\;\, Times\, serif\; font-size: 24px\; text-align: center\;">\n<p style="font-size: 16px\; line-height: 18px\; margin-top: 0px\; margin-bottom: 5px\; color: rgb(38\, 44\, 48)\; text-align: left\; font-family: Tahoma\, Geneva\, sans-serif\; white-space: pre-wrap\;"><span style="margin: 0px\; padding: 0px\; border: 0px\; outline: 0px\; font-family: tahoma\, geneva\, sans-serif\;"><span style="margin: 0px\; padding: 0px\; border: 0px\; outline: 0px\; font-size: 12px\;"><span style="margin: 0px\; padding: 0px\; border: 0px\; outline: 0px\; color: rgb(0\, 92\, 171)\; font-weight: bold\;"><a href="https://global.gotomeeting.com/join/591587829" style="color: rgb(195\, 50\, 44)\; text-decoration-line: none\; margin: 0px\; padding: 0px\; border: 0px\; outline: 0px\;" target="_blank">https://global.gotomeeting.com/join/591587829</a> </span></span></span></p>\n\n<p style="font-size: 16px\; line-height: 18px\; margin-top: 0px\; margin-bottom: 5px\; color: rgb(38\, 44\, 48)\; text-align: left\; font-family: Tahoma\, Geneva\, sans-serif\; white-space: pre-wrap\;"><span style="margin: 0px\; padding: 0px\; border: 0px\; outline: 0px\; font-family: tahoma\, geneva\, sans-serif\;"><span style="margin: 0px\; padding: 0px\; border: 0px\; outline: 0px\; font-size: 12px\;"><span style="margin: 0px\; padding: 0px\; border: 0px\; outline: 0px\; color: rgb(0\, 92\, 171)\; font-weight: bold\;">You can also dial in using your phone. </span></span></span></p>\n\n<p style="font-size: 16px\; line-height: 18px\; margin-top: 0px\; margin-bottom: 5px\; color: rgb(38\, 44\, 48)\; text-align: left\; font-family: Tahoma\, Geneva\, sans-serif\; white-space: pre-wrap\;"><span style="margin: 0px\; padding: 0px\; border: 0px\; outline: 0px\; font-family: tahoma\, geneva\, sans-serif\;"><span style="margin: 0px\; padding: 0px\; border: 0px\; outline: 0px\; font-size: 12px\;"><span style="margin: 0px\; padding: 0px\; border: 0px\; outline: 0px\; color: rgb(0\, 92\, 171)\; font-weight: bold\;">United States: <a href="tel:+16692243412\,\,591587829#" style="color: rgb(195\, 50\, 44)\; text-decoration-line: none\; margin: 0px\; padding: 0px\; border: 0px\; outline: 0px\;">+1 (669) 224-3412</a></span></span></span></p>\n\n<p style="font-size: 16px\; line-height: 18px\; margin-top: 0px\; margin-bottom: 5px\; color: rgb(38\, 44\, 48)\; text-align: left\; font-family: Tahoma\, Geneva\, sans-serif\; white-space: pre-wrap\;"><span style="margin: 0px\; padding: 0px\; border: 0px\; outline: 0px\; font-family: tahoma\, geneva\, sans-serif\;"><span style="margin: 0px\; padding: 0px\; border: 0px\; outline: 0px\; font-size: 12px\;"><span style="margin: 0px\; padding: 0px\; border: 0px\; outline: 0px\; color: rgb(0\, 92\, 171)\; font-weight: bold\;">Access Code: 591-587-829<br />\nNew to GoToMeeting? Get the app now and be ready when your first meeting starts: <a href="https://global.gotomeeting.com/install/591587829" style="color: rgb(195\, 50\, 44)\; text-decoration-line: none\; margin: 0px\; padding: 0px\; border: 0px\; outline: 0px\;" target="_blank">https://global.gotomeeting.com/install/591587829</a></span></span></span></p>\n</div>\n&nbsp\;\n\n<div style="color: rgb(38\, 44\, 48)\; font-family: Tahoma\, Geneva\, sans-serif\; font-size: 16px\; white-space: pre-wrap\; text-align: center\;">&nbsp\;</div>\n
LOCATION:Online
UID:e.1843.3013
SEQUENCE:3
DTSTAMP:20260425T033110Z
URL:https://business.movalchamber.org/events/details/virtual-business-in-action-bia-02-10-2021-3013
END:VEVENT

END:VCALENDAR
