BEGIN:VCALENDAR
VERSION:2.0
PRODID:-//ChamberMaster//Event Calendar 2.0//EN
METHOD:PUBLISH
X-PUBLISHED-TTL:P3D
REFRESH-INTERVAL:P3D
CALSCALE:GREGORIAN
BEGIN:VEVENT
DTSTART:20210414T143000Z
DTEND:20210415T033000Z
X-MICROSOFT-CDO-ALLDAYEVENT:FALSE
SUMMARY:Virtual Business In Action (BIA)
DESCRIPTION:Speaker: Mario Garai\, Legislative Assistant \n\nFifth District Supervisor Jeff Hewitt \n\n \n\nRIVERSIDE COUNTY UPDATE\n\n\n\nB.I.A. is an excellent opportunity to meet other business and community leaders and to market your business as well as becoming informed on all upcoming events and activities.
X-ALT-DESC;FMTTYPE=text/html:<div style="margin: 0px\; padding: 0px\; border: 0px\; outline: 0px\; text-align: center\; color: rgb(38\, 44\, 48)\; font-family: Tahoma\, Geneva\, sans-serif\; font-size: 16px\; white-space: pre-wrap\;"><span style="margin: 0px\; padding: 0px\; border: 0px\; outline: 0px\; color: rgb(0\, 92\, 171)\; font-weight: bold\;">Speaker: Mario </span><span style="margin: 0px\; padding: 0px\; border: 0px\; outline: 0px\; font-weight: bold\; color: rgb(0\, 92\, 171)\;">Garai\, </span><span style="margin: 0px\; padding: 0px\; border: 0px\; outline: 0px\; font-weight: bold\; color: rgb(0\, 92\, 171)\;">Legislative Assistant </span></div>\n\n<div style="margin: 0px\; padding: 0px\; border: 0px\; outline: 0px\; text-align: center\; color: rgb(38\, 44\, 48)\; font-family: Tahoma\, Geneva\, sans-serif\; font-size: 16px\; white-space: pre-wrap\;"><span style="margin: 0px\; padding: 0px\; border: 0px\; outline: 0px\; font-size: 14px\; color: rgb(0\, 92\, 171)\;">Fifth District Supervisor Jeff Hewitt&nbsp\;</span></div>\n\n<div style="margin: 0px\; padding: 0px\; border: 0px\; outline: 0px\; text-align: center\; color: rgb(38\, 44\, 48)\; font-family: Tahoma\, Geneva\, sans-serif\; font-size: 16px\; white-space: pre-wrap\;">&nbsp\;</div>\n\n<div style="margin: 0px\; padding: 0px\; border: 0px\; outline: 0px\; text-align: center\; color: rgb(38\, 44\, 48)\; font-family: Tahoma\, Geneva\, sans-serif\; font-size: 16px\; white-space: pre-wrap\;"><span style="margin: 0px\; padding: 0px\; border: 0px\; outline: 0px\; font-size: 22px\; font-weight: bold\; color: rgb(237\, 28\, 36)\;">RIVERSIDE COUNTY UPDATE</span><br />\n<br />\n<span style="color: rgb(68\, 68\, 68)\; font-family: Tahoma\, Arial\, sans-serif\; font-size: 14px\;">B.I.A. is an excellent opportunity to meet other business and&nbsp\;community leaders and to market your business as well as becoming informed on all upcoming events and activities.</span><br />\n&nbsp\;</div>\n&nbsp\;\n\n<div style="color: rgb(38\, 44\, 48)\; font-family: Tahoma\, Geneva\, sans-serif\; font-size: 16px\; white-space: pre-wrap\; text-align: center\;">&nbsp\;</div>\n
LOCATION:Online CLICK HERE
UID:e.1843.3030
SEQUENCE:3
DTSTAMP:20260424T215021Z
URL:https://business.movalchamber.org/events/details/virtual-business-in-action-bia-04-14-2021-3030
END:VEVENT

END:VCALENDAR
