BEGIN:VCALENDAR
VERSION:2.0
PRODID:-//ChamberMaster//Event Calendar 2.0//EN
METHOD:PUBLISH
X-PUBLISHED-TTL:P3D
REFRESH-INTERVAL:P3D
CALSCALE:GREGORIAN
BEGIN:VEVENT
DTSTART:20210514T010000Z
DTEND:20210514T023000Z
X-MICROSOFT-CDO-ALLDAYEVENT:FALSE
SUMMARY:Virtual Connections After Hours and BINGO
DESCRIPTION:End your work day by connecting with fellow professionals through networking.\n\nPlay BINGO with Us.\n$10 for 3 games \n\nGreat Prizes!
X-ALT-DESC;FMTTYPE=text/html:<div style="margin: 0px\; padding: 0px\; border: none\; border-image-source: none\; border-image-slice: 100% 1 0\; border-image-repeat: stretch\; outline: invert none medium\; border-collapse: separate\; border-top-left-radius: 0px\; border-top-right-radius: 0px\; border-bottom-right-radius: 0px\; border-bottom-left-radius: 0px\; bottom: auto\; box-sizing: content-box\; clear: none\; color: rgb(39\, 51\, 58)\; content: normal\; direction: inherit\; empty-cells: show\; float: none\; font-family: 'Franklin Gothic Medium'\, Arial\, Helvetica\, sans-serif\; font-size: 14px\; left: auto\; line-height: 18.200000762939453px\; max-height: none\; max-width: none\; opacity: 1\; outline-offset: 0px\; overflow: visible\; position: static\; resize: none\; right: auto\; table-layout: auto\; text-align: -webkit-center\; text-justify: inherit\; text-overflow: clip\; top: auto\; vertical-align: baseline\; visibility: inherit\; word-break: inherit\; word-wrap: inherit\; z-index: auto\; height: auto\; width: auto\; box-shadow: none\; background-image: none\; background-attachment: initial\; background-size: initial\; background-origin: initial\; background-clip: initial\; background-position: initial\; background-repeat: initial\;">\n<div style="margin: 0px\; padding: 0px\; border: none\; border-collapse: separate\; border-radius: 0px\; bottom: auto\; box-sizing: content-box\; clear: none\; color: inherit\; content: normal\; empty-cells: show\; float: none\; font-family: inherit\; font-size: inherit\; font-style: inherit\; font-variant: inherit\; font-weight: inherit\; left: auto\; letter-spacing: inherit\; line-height: inherit\; max-height: none\; max-width: none\; opacity: 1\; outline-offset: 0px\; overflow: visible\; position: static\; resize: none\; right: auto\; table-layout: auto\; text-align: left\; text-indent: inherit\; text-overflow: clip\; text-transform: inherit\; top: auto\; vertical-align: baseline\; visibility: inherit\; white-space: inherit\; word-break: inherit\; word-spacing: inherit\; overflow-wrap: inherit\; z-index: auto\; height: auto\; width: auto\; box-shadow: none\; background: none\;">\n<div style="color: rgb(38\, 44\, 48)\; font-family: Tahoma\, Geneva\, sans-serif\; font-size: 16px\; white-space: pre-wrap\; text-align: center\;"><span style="color: rgb(219\, 56\, 51)\; font-family: Tahoma\, Geneva\, sans-serif\; font-size: 14px\; font-weight: 700\; white-space: pre-wrap\;">End your work day by connecting with fellow professionals through networking.<br />\nPlay BINGO with Us.</span>\n<div style="margin: 0px\; padding: 0px\; border: 0px\; outline: 0px\; color: rgb(68\, 68\, 68)\; font-family: Tahoma\, Arial\, sans-serif\;"><span style="margin: 0px\; padding: 0px\; border: 0px\; outline: 0px\; color: rgb(255\, 0\, 0)\;"><span style="margin: 0px\; padding: 0px\; border: 0px\; outline: 0px\; font-size: 12px\;"><strong style="margin: 0px\; padding: 0px\; border: 0px\; outline: 0px\;">$10 for 3 games </strong></span></span><br />\n<span style="margin: 0px\; padding: 0px\; border: 0px\; outline: 0px\; color: rgb(255\, 0\, 0)\;"><span style="margin: 0px\; padding: 0px\; border: 0px\; outline: 0px\; font-size: 12px\;"><strong style="margin: 0px\; padding: 0px\; border: 0px\; outline: 0px\;">Great Prizes!</strong></span></span></div>\n</div>\n</div>\n</div>\n
LOCATION:Online Watch for LINK.
UID:e.1843.843
SEQUENCE:3
DTSTAMP:20260424T195705Z
URL:https://business.movalchamber.org/events/details/virtual-connections-after-hours-and-bingo-843
END:VEVENT

END:VCALENDAR
